BEGIN:VCALENDAR
VERSION:2.0
PRODID:-//wp-events-plugin.com//7.2.3.1//EN
TZID:Europe/Zurich
X-WR-TIMEZONE:Europe/Zurich
BEGIN:VEVENT
UID:160@vuarrens.ch
DTSTART;TZID=Europe/Zurich:20241006T150000
DTEND;TZID=Europe/Zurich:20241006T190000
DTSTAMP:20240919T074611Z
URL:https://www.vuarrens.ch/events/bienvenue-a-bord-chant-theatre/
SUMMARY:Bienvenue à bord | Présentation Chant &amp\; théâtre
DESCRIPTION:
LOCATION:La grande salle\, Rte de Corcelles 10\, Vuarrens\, 1418\, Suisse
X-APPLE-STRUCTURED-LOCATION;VALUE=URI;X-ADDRESS=Rte de Corcelles 10\, Vuarr
 ens\, 1418\, Suisse;X-APPLE-RADIUS=100;X-TITLE=La grande salle:geo:0,0
END:VEVENT
BEGIN:VTIMEZONE
TZID:Europe/Zurich
X-LIC-LOCATION:Europe/Zurich
BEGIN:DAYLIGHT
DTSTART:20240331T030000
TZOFFSETFROM:+0100
TZOFFSETTO:+0200
TZNAME:CEST
END:DAYLIGHT
END:VTIMEZONE
END:VCALENDAR